BEGIN:VCALENDAR
VERSION:2.0
PRODID:-//Donaldson Farms - ECPv6.15.14//NONSGML v1.0//EN
CALSCALE:GREGORIAN
METHOD:PUBLISH
X-ORIGINAL-URL:https://donaldsonfarms.net
X-WR-CALDESC:Events for Donaldson Farms
REFRESH-INTERVAL;VALUE=DURATION:PT1H
X-Robots-Tag:noindex
X-PUBLISHED-TTL:PT1H
BEGIN:VTIMEZONE
TZID:UTC
BEGIN:STANDARD
TZOFFSETFROM:+0000
TZOFFSETTO:+0000
TZNAME:UTC
DTSTART:20220101T000000
END:STANDARD
END:VTIMEZONE
BEGIN:VEVENT
DTSTART;TZID=UTC:20230616T180000
DTEND;TZID=UTC:20230616T210000
DTSTAMP:20260422T061350
CREATED:20230412T142430Z
LAST-MODIFIED:20230519T170456Z
UID:10520-1686938400-1686949200@donaldsonfarms.net
SUMMARY:Sip & Solve! Forensics Fun on the Farm
DESCRIPTION:Lisa Desire of Prime Suspect is back! Join us as she hosts a thrilling afternoon of fun on the farm while we unlock the mystery of… The Secrets in the Soil! It would be a crime to miss this unique opportunity! \nDATES:\nFriday\, June 16th\, 6:00 pm – 9:00 pm. Buffet Style Dinner by Mama’s & Café Baci\nSaturday\, June 17th\, 12:00 pm – 3:00 pm. Buffet Style Lunch by Mama’s & Café Baci\nLimited Seating. No rain date. View full details on our ticketing site! \nTICKETS: $60/person \n\nBYOB\nMust be 18+ to attend\nMust be 21+ years old to drink responsibly\n\nHosted by Lisa Desire of Prime Suspect! Lisa is a former forensic scientist with the New York City Office of Chief Medical Examiner’s Department of Forensic Biology\, the largest laboratory of its kind in North America. During her tenure\, she investigated thousands of homicides\, sexual assaults\, and missing persons cases\, and was a supervisor of victim identification for the World Trade Center attack\, the most complicated forensic investigation in the history of the United States. Lisa has testified as an Expert Witness in Forensic Biology and DNA Analysis in the criminal justice systems of the City of New York and has earned the certifications of ASCLD-LAB Inspector and FBI DNA Auditor. She was presented with NYPD’s Centurion Award and the Honor Legion’s Certificate of Merit for her contributions on a high-profile serial killer case. Lisa used her experiences to create Prime Suspect\, LLC\, an education and consulting company that brings forensic information to students\, teachers\, attorneys\, and law enforcement through hands-on activities\, professional development sessions\, and courtroom assistance. \nClick here for Friday\, June 16th Evening Tickets! \nClick here for Saturday\, June 17 Afternoon Tickets!
URL:https://donaldsonfarms.net/event/sip-solve-forensics-fun-on-the-farm-2023/2023-06-16/
LOCATION:Donaldson Farms\, 358 Allen Road\, Hackettstown\, NJ\, 07840\, United States
CATEGORIES:Special Event
ATTACH;FMTTYPE=image/png:https://donaldsonfarms.net/wp-content/uploads/2023-6-17-Forensics-Fun-on-the-Farm.png
GEO:40.8268126;-74.8377554
X-APPLE-STRUCTURED-LOCATION;VALUE=URI;X-ADDRESS=Donaldson Farms 358 Allen Road Hackettstown NJ 07840 United States;X-APPLE-RADIUS=500;X-TITLE=358 Allen Road:geo:-74.8377554,40.8268126
END:VEVENT
END:VCALENDAR