BEGIN:VCALENDAR
VERSION:2.0
PRODID:-//Donaldson Farms - ECPv6.15.14//NONSGML v1.0//EN
CALSCALE:GREGORIAN
METHOD:PUBLISH
X-ORIGINAL-URL:https://donaldsonfarms.net
X-WR-CALDESC:Events for Donaldson Farms
REFRESH-INTERVAL;VALUE=DURATION:PT1H
X-Robots-Tag:noindex
X-PUBLISHED-TTL:PT1H
BEGIN:VTIMEZONE
TZID:UTC
BEGIN:STANDARD
TZOFFSETFROM:+0000
TZOFFSETTO:+0000
TZNAME:UTC
DTSTART:20250101T000000
END:STANDARD
END:VTIMEZONE
BEGIN:VEVENT
DTSTART;TZID=UTC:20260530T090000
DTEND;TZID=UTC:20260530T180000
DTSTAMP:20260421T124139
CREATED:20260316T155638Z
LAST-MODIFIED:20260316T160026Z
UID:13616-1780131600-1780164000@donaldsonfarms.net
SUMMARY:Farm Market Open
DESCRIPTION:Our Farm Market\, located in northwestern New Jersey\, is seasonally stocked with a full line of fresh fruits\, vegetables\, local raw honey\, local glass-bottled milk\, cheese and dairy\, meats\, pickled vegetables\, freshly baked pies\, and other delicious baked goods\, gift baskets and boxes\, a large selection of John Deere toys and collectibles\, and more!
URL:https://donaldsonfarms.net/event/farm-market-open-3/2026-05-30/
LOCATION:Donaldson Farms\, 358 Allen Road\, Hackettstown\, NJ\, 07840\, United States
CATEGORIES:Farm Market
GEO:40.8268126;-74.8377554
X-APPLE-STRUCTURED-LOCATION;VALUE=URI;X-ADDRESS=Donaldson Farms 358 Allen Road Hackettstown NJ 07840 United States;X-APPLE-RADIUS=500;X-TITLE=358 Allen Road:geo:-74.8377554,40.8268126
END:VEVENT
BEGIN:VEVENT
DTSTART;TZID=UTC:20260530T150000
DTEND;TZID=UTC:20260530T180000
DTSTAMP:20260421T124139
CREATED:20260328T182539Z
LAST-MODIFIED:20260328T194813Z
UID:13668-1780153200-1780164000@donaldsonfarms.net
SUMMARY:Line Dancing on the Farm!
DESCRIPTION:Sandi of Willow Creek Events is back on the farm with more line dancing fun for the whole family! Pull on those boots and get ready for an awesome afternoon of line dancing and strawberry picking! \nJoin us! Saturday\, May 30th\, 3:00 pm – 6:00 pm. \nAdmission is FREE to Line Dance. Registration is not required. \nPick-Your-Own Strawberries is priced separately and is available\, weather and crop conditions permitting\, from 9:00 am – 5:00 pm. Check-in is required at the farm market or outdoor welcome shack. Click here to learn more. \nFabulous local food and drink available for purchase: Craft Beer and Czeltzers at the Czig Meister Brewing Co. Can Shack\, a magnificent menu from Marley’s Wings & Things Food Truck\, cool off with Coldstone on Wheels Ice Cream\, and enjoy browsing our farm market full of fresh fruits\, veggies\, fresh-baked pies\, and more! \nAll info subject to change. Look for weather updates here\, and on our Facebook and Instagram. See you there! \n#strawberrypicking #linedancing #hackettstown #njfarms #njfamilyfun 
URL:https://donaldsonfarms.net/event/line-dancing-on-the-farm-2/
LOCATION:Donaldson Farms\, 358 Allen Road\, Hackettstown\, NJ\, 07840\, United States
CATEGORIES:Music,Pick Your Own Strawberries,Special Event
ATTACH;FMTTYPE=image/png:https://donaldsonfarms.net/wp-content/uploads/2026-10-26-Line-Dance-wSandi-Strawberry-3.png
GEO:40.8268126;-74.8377554
X-APPLE-STRUCTURED-LOCATION;VALUE=URI;X-ADDRESS=Donaldson Farms 358 Allen Road Hackettstown NJ 07840 United States;X-APPLE-RADIUS=500;X-TITLE=358 Allen Road:geo:-74.8377554,40.8268126
END:VEVENT
END:VCALENDAR