BEGIN:VCALENDAR
VERSION:2.0
PRODID:-//Donaldson Farms - ECPv6.15.14//NONSGML v1.0//EN
CALSCALE:GREGORIAN
METHOD:PUBLISH
X-ORIGINAL-URL:https://donaldsonfarms.net
X-WR-CALDESC:Events for Donaldson Farms
REFRESH-INTERVAL;VALUE=DURATION:PT1H
X-Robots-Tag:noindex
X-PUBLISHED-TTL:PT1H
BEGIN:VTIMEZONE
TZID:UTC
BEGIN:STANDARD
TZOFFSETFROM:+0000
TZOFFSETTO:+0000
TZNAME:UTC
DTSTART:20220101T000000
END:STANDARD
END:VTIMEZONE
BEGIN:VEVENT
DTSTART;TZID=UTC:20230901T170000
DTEND;TZID=UTC:20230901T210000
DTSTAMP:20260421T002356
CREATED:20230412T143439Z
LAST-MODIFIED:20240124T022152Z
UID:10531-1693587600-1693602000@donaldsonfarms.net
SUMMARY:Friday Nights on the Farm
DESCRIPTION:Our much-loved Friday Nights on the Farm outdoor dining and music events continue this season with James On Main\, Czig Meister Brewing Company\, and Và Fa Napoli Pizza\, and fun for the whole family! \nAdmission tickets are required for guests to attend the event. Please check back for details. Thank you for supporting local agriculture! Your attendance and support allow Donaldson Farms to continue hosting events such as these. Our farm family is proud to provide a good old-fashioned\, fun environment where friends and family gather to make memories in our community. We appreciate your loyalty to our farm\, local businesses\, and restaurants in our neighborhood. Eat\, drink\, & enjoy LOCAL! \n• June 23: Bombed Opera\, Heroes Night\, Celebrating 1st Responders.\n• June 30: Jeff Belfy\n• July 14: Trevor B. Power Band\n• July 21: Harmony Garage Band Cancelled due to weather forecast\n• July 28: Food Trucks\, Vera & The Force\n• Aug 4: Food Trucks\, Bombed Opera Cancelled due to weather forecast\n• Aug 11: The Bassboards\, The Arc of Warren County & Friends\n• Aug 18: Brian Dean Moore band\n• Aug 25: Still Kickin’ Juan Cosme\n• Sept 1: Bombed Opera \nFriday Nights on the Farm are 5:00 pm – 9:00 pm\, weather permitting.
URL:https://donaldsonfarms.net/event/friday-nights-on-the-farm-3-2023-09-01/
LOCATION:Donaldson Farms\, 358 Allen Road\, Hackettstown\, NJ\, 07840\, United States
CATEGORIES:Food & Drink,Friday Nights on the Farm,Kid-Friendly Activities,Music,Special Event
ATTACH;FMTTYPE=image/png:https://donaldsonfarms.net/wp-content/uploads/2023-FNOF-FB-Cover-.png
GEO:40.8268126;-74.8377554
X-APPLE-STRUCTURED-LOCATION;VALUE=URI;X-ADDRESS=Donaldson Farms 358 Allen Road Hackettstown NJ 07840 United States;X-APPLE-RADIUS=500;X-TITLE=358 Allen Road:geo:-74.8377554,40.8268126
END:VEVENT
BEGIN:VEVENT
DTSTART;TZID=UTC:20230909T110000
DTEND;TZID=UTC:20230909T170000
DTSTAMP:20260421T002356
CREATED:20230418T154917Z
LAST-MODIFIED:20230418T154918Z
UID:10674-1694257200-1694278800@donaldsonfarms.net
SUMMARY:Apple Harvest Weekends
DESCRIPTION:Apple picking\, food\, hayrides (weather permitting)\, vendors\, and more! Check back for details. \nDATES: September 9th & 10th and September 16th & 17th (11am – 5pm)– Weather permitting\nCOST: No entry fee. PYO activities are priced by the pound. \nMORE INFO:\n\nLearn more about apple picking
URL:https://donaldsonfarms.net/event/apple-harvest-weekends/2023-09-09/
LOCATION:Donaldson Farms\, 358 Allen Road\, Hackettstown\, NJ\, 07840\, United States
CATEGORIES:Kid-Friendly Activities,Pick Your Own Apples,Special Event
ATTACH;FMTTYPE=image/jpeg:https://donaldsonfarms.net/wp-content/uploads/apple-picking-new-jersey.jpg
GEO:40.8268126;-74.8377554
X-APPLE-STRUCTURED-LOCATION;VALUE=URI;X-ADDRESS=Donaldson Farms 358 Allen Road Hackettstown NJ 07840 United States;X-APPLE-RADIUS=500;X-TITLE=358 Allen Road:geo:-74.8377554,40.8268126
END:VEVENT
BEGIN:VEVENT
DTSTART;TZID=UTC:20230923T110000
DTEND;TZID=UTC:20230923T170000
DTSTAMP:20260421T002356
CREATED:20230418T162529Z
LAST-MODIFIED:20230418T162529Z
UID:10679-1695466800-1695488400@donaldsonfarms.net
SUMMARY:Fall Harvest Weekends
DESCRIPTION:Fall Harvest Weekends\nFall is the perfect time to visit Donaldson Farms to enjoy apple and pumpkin picking and corn maze\, hayrides\, corn cannon\, fresh-cooked food\, apple cider samples\, and more! \nDATES: Saturdays and Sundays 11am – 5pm\nSeptember 23rd – October 29th and Columbus Day (Monday 10/10) – Weather permitting\nCOST: No entry fee. Activities and food priced individually. PYO activities are priced by the pound. \nPick-Your-Own Apples: Enjoy healthy and delicious apples that are locally-grown.  No admission fee is required to access our apple orchard but\, you must check in at our farm market prior to picking. Apples are priced by the pound. We take great pride in our farm – please be respectful while visiting. \nPick-Your-Own Pumpkins: Grab a wheelbarrow and take a scenic walk to our fields to pick your own pumpkin. No admission fee is required to access our pumpkin patch. Pumpkins are priced by the pound. Wheelbarrows are available for walking to the pumpkin patch or take a hayride to pumpkins and apples (fee applies). \nCorn Maze & Attractions:9-acres of fun that the kids will love! Put on your comfortable walking shoes and venture into our corn maze! It takes an average of 45 minutes to an hour complete. If kids surrender\, just take an ‘easy’ exit! Each year\, our Corn Maze features a different design. \nFood & Drink: James on Main will serve their award-winning BBQ each day from 11am to 4pm (hours subject to change) and Czig Meister Brewing Company will sell and sample their local craft beers and hard Czeltzers from 12pm until closing. These award-winning spirits are a neighborhood favorite! \nVendors: Each October weekend\, we feature a variety of vendors selling handmade items and goodies. Vendors will vary from week to week. If you have interest in becoming a vendor during our Fall Harvest Weekends\, please click here. \nPlease visit our Facebook page\, or call us 908-852-9122 x1 for current conditions before planning your visit. \nAs a courtesy to our customers\, we kindly ask that you leave your pets at home. \nQuestions? Please email events@donaldsonfarms.net or call 908-852-9122
URL:https://donaldsonfarms.net/event/fall-harvest-weekends/2023-09-23/
LOCATION:Donaldson Farms\, 358 Allen Road\, Hackettstown\, NJ\, 07840\, United States
CATEGORIES:Corn Maze,Fall Activities,Food & Drink,Kid-Friendly Activities,Pick Your Own Apples,Pick Your Own Pumpkins,Special Event
ATTACH;FMTTYPE=image/jpeg:https://donaldsonfarms.net/wp-content/uploads/pyo-pumpkins-corn.jpg
GEO:40.8268126;-74.8377554
X-APPLE-STRUCTURED-LOCATION;VALUE=URI;X-ADDRESS=Donaldson Farms 358 Allen Road Hackettstown NJ 07840 United States;X-APPLE-RADIUS=500;X-TITLE=358 Allen Road:geo:-74.8377554,40.8268126
END:VEVENT
BEGIN:VEVENT
DTSTART;TZID=UTC:20230930T110000
DTEND;TZID=UTC:20230930T170000
DTSTAMP:20260421T002356
CREATED:20230928T172738Z
LAST-MODIFIED:20230929T022146Z
UID:11328-1696071600-1696093200@donaldsonfarms.net
SUMMARY:Fall Harvest Weekends
DESCRIPTION:Fall Harvest Weekends\nFall is the perfect time to visit Donaldson Farms to enjoy apple and pumpkin picking and corn maze\, hayrides\, corn cannon\, fresh-cooked food\, apple cider samples\, and more! \nDATES: Saturdays and Sundays 11am – 5pm\nSeptember 23rd – October 29th and Columbus Day (Monday 10/10) – Weather permitting\nCOST: No entry fee. Activities and food priced individually. PYO activities are priced by the pound. \nPick-Your-Own Apples: Enjoy healthy and delicious apples that are locally-grown.  No admission fee is required to access our apple orchard but\, you must check in at our farm market prior to picking. Apples are priced by the pound. We take great pride in our farm – please be respectful while visiting. \nPick-Your-Own Pumpkins: Grab a wheelbarrow and take a scenic walk to our fields to pick your own pumpkin. No admission fee is required to access our pumpkin patch. Pumpkins are priced by the pound. Wheelbarrows are available for walking to the pumpkin patch or take a hayride to pumpkins and apples (fee applies). \nCorn Maze & Attractions:9-acres of fun that the kids will love! Put on your comfortable walking shoes and venture into our corn maze! It takes an average of 45 minutes to an hour complete. If kids surrender\, just take an ‘easy’ exit! Each year\, our Corn Maze features a different design. \nFood & Drink: James on Main will serve their award-winning BBQ each day from 11am to 4pm (hours subject to change) and Czig Meister Brewing Company will sell and sample their local craft beers and hard Czeltzers from 12pm until closing. These award-winning spirits are a neighborhood favorite! Additional food options include Kettle Corn\, Patrons Food Truck\, Filipino Fusion\, and Chef D. \nVendors: Each October weekend\, we feature a variety of vendors selling handmade items and goodies. Vendors will vary from week to week. If you have interest in becoming a vendor during our Fall Harvest Weekends\, please click here. Vendors include Bandy’s Bandanas\, KCL Wellness\, and Ryan Homes. \nSpecial Guest: Produce Pete and Susan Bloom’s Book Signing Meet and Greet! Join us from 12 pm – 2 pm outside of the farm market. No registration is needed. “They Call Me Produce Pete” books will be available for purchase. \nPlease visit our Facebook page\, or call us 908-852-9122 x1 for current conditions before planning your visit. \nAs a courtesy to our customers\, we kindly ask that you leave your pets at home. \nQuestions? Please email events@donaldsonfarms.net or call 908-852-9122
URL:https://donaldsonfarms.net/event/fall-harvest-weekends-2/
LOCATION:Donaldson Farms\, 358 Allen Road\, Hackettstown\, NJ\, 07840\, United States
CATEGORIES:Corn Maze,Fall Activities,Food & Drink,Kid-Friendly Activities,Pick Your Own Apples,Pick Your Own Pumpkins,Special Event
ATTACH;FMTTYPE=image/jpeg:https://donaldsonfarms.net/wp-content/uploads/pyo-pumpkins-corn.jpg
GEO:40.8268126;-74.8377554
X-APPLE-STRUCTURED-LOCATION;VALUE=URI;X-ADDRESS=Donaldson Farms 358 Allen Road Hackettstown NJ 07840 United States;X-APPLE-RADIUS=500;X-TITLE=358 Allen Road:geo:-74.8377554,40.8268126
END:VEVENT
END:VCALENDAR