BEGIN:VCALENDAR
VERSION:2.0
PRODID:-//Donaldson Farms - ECPv6.15.14//NONSGML v1.0//EN
CALSCALE:GREGORIAN
METHOD:PUBLISH
X-WR-CALNAME:Donaldson Farms
X-ORIGINAL-URL:https://donaldsonfarms.net
X-WR-CALDESC:Events for Donaldson Farms
REFRESH-INTERVAL;VALUE=DURATION:PT1H
X-Robots-Tag:noindex
X-PUBLISHED-TTL:PT1H
BEGIN:VTIMEZONE
TZID:UTC
BEGIN:STANDARD
TZOFFSETFROM:+0000
TZOFFSETTO:+0000
TZNAME:UTC
DTSTART:20230101T000000
END:STANDARD
END:VTIMEZONE
BEGIN:VEVENT
DTSTART;TZID=UTC:20240907T110000
DTEND;TZID=UTC:20240907T170000
DTSTAMP:20260420T065554
CREATED:20240828T134137Z
LAST-MODIFIED:20240828T134255Z
UID:11981-1725706800-1725728400@donaldsonfarms.net
SUMMARY:Apple Harvest Weekends
DESCRIPTION:Apple picking\, food\, hayrides (weather permitting)\, vendors\, and more! \n\n\n\nDATES: Saturdays & Sundays Sept 7th – Sept 22nd (11am – 5pm) – Weather permitting COST: No entry fee. PYO activities are priced by the pound. \n\n\n\nMORE INFO:\n\n\n\n\nLearn more about apple picking
URL:https://donaldsonfarms.net/event/apple-harvest-weekends-2024/2024-09-07/
LOCATION:Donaldson Farms\, 358 Allen Road\, Hackettstown\, NJ\, 07840\, United States
CATEGORIES:Fall Activities,Kid-Friendly Activities,Pick Your Own Apples,Special Event
ATTACH;FMTTYPE=image/jpeg:https://donaldsonfarms.net/wp-content/uploads/apple-picking-new-jersey.jpg
GEO:40.8268126;-74.8377554
X-APPLE-STRUCTURED-LOCATION;VALUE=URI;X-ADDRESS=Donaldson Farms 358 Allen Road Hackettstown NJ 07840 United States;X-APPLE-RADIUS=500;X-TITLE=358 Allen Road:geo:-74.8377554,40.8268126
END:VEVENT
BEGIN:VEVENT
DTSTART;TZID=UTC:20240907T120000
DTEND;TZID=UTC:20240907T180000
DTSTAMP:20260420T065554
CREATED:20240806T154607Z
LAST-MODIFIED:20240905T172338Z
UID:11844-1725710400-1725732000@donaldsonfarms.net
SUMMARY:Sweet Corn & Garlic Festival
DESCRIPTION:The ‘Sweet Corn & Garlic Fest’ schedule for Saturday\, September 7th has been canceled due to the unsettled forecast. It’s disappointing for sure\, but keep that chin up – while this festival is not being rescheduled\, there will be plenty of fun on the farm this Sunday\, Sept. 8th\, and throughout the fall season! In addition to a handful of fabulous food trucks\, join us for fresh crisp Apple Picking\, and be the first to take an adventure in our ‘Back to the Future’ inspired Corn Maze! $1 per entry is donated to The Michael J. Fox Foundation for Parkinson’s Research. Thank you!
URL:https://donaldsonfarms.net/event/sweet-corn-garlic-festival/
LOCATION:Donaldson Farms\, 358 Allen Road\, Hackettstown\, NJ\, 07840\, United States
CATEGORIES:Food & Drink,Kid-Friendly Activities,Music,Special Event
ATTACH;FMTTYPE=image/png:https://donaldsonfarms.net/wp-content/uploads/2024-LLF-Sweet-Corn-Garlic-Fest.png
GEO:40.8268126;-74.8377554
X-APPLE-STRUCTURED-LOCATION;VALUE=URI;X-ADDRESS=Donaldson Farms 358 Allen Road Hackettstown NJ 07840 United States;X-APPLE-RADIUS=500;X-TITLE=358 Allen Road:geo:-74.8377554,40.8268126
END:VEVENT
BEGIN:VEVENT
DTSTART;TZID=UTC:20240908T110000
DTEND;TZID=UTC:20240908T170000
DTSTAMP:20260420T065554
CREATED:20240828T134137Z
LAST-MODIFIED:20240828T134137Z
UID:11989-1725793200-1725814800@donaldsonfarms.net
SUMMARY:Apple Harvest Weekends
DESCRIPTION:Apple picking\, food\, hayrides (weather permitting)\, vendors\, and more! \n\n\n\nDATES: Saturdays & Sundays Sept 7th – Sept 22nd (11am – 5pm) – Weather permitting COST: No entry fee. PYO activities are priced by the pound. \n\n\n\nMORE INFO:\n\n\n\n\nLearn more about apple picking
URL:https://donaldsonfarms.net/event/apple-harvest-weekends-2024/2024-09-08/
LOCATION:Donaldson Farms\, 358 Allen Road\, Hackettstown\, NJ\, 07840\, United States
CATEGORIES:Fall Activities,Kid-Friendly Activities,Pick Your Own Apples,Special Event
ATTACH;FMTTYPE=image/jpeg:https://donaldsonfarms.net/wp-content/uploads/apple-picking-new-jersey.jpg
GEO:40.8268126;-74.8377554
X-APPLE-STRUCTURED-LOCATION;VALUE=URI;X-ADDRESS=Donaldson Farms 358 Allen Road Hackettstown NJ 07840 United States;X-APPLE-RADIUS=500;X-TITLE=358 Allen Road:geo:-74.8377554,40.8268126
END:VEVENT
BEGIN:VEVENT
DTSTART;TZID=UTC:20240914T110000
DTEND;TZID=UTC:20240914T170000
DTSTAMP:20260420T065554
CREATED:20240828T134137Z
LAST-MODIFIED:20240828T134137Z
UID:11990-1726311600-1726333200@donaldsonfarms.net
SUMMARY:Apple Harvest Weekends
DESCRIPTION:Apple picking\, food\, hayrides (weather permitting)\, vendors\, and more! \n\n\n\nDATES: Saturdays & Sundays Sept 7th – Sept 22nd (11am – 5pm) – Weather permitting COST: No entry fee. PYO activities are priced by the pound. \n\n\n\nMORE INFO:\n\n\n\n\nLearn more about apple picking
URL:https://donaldsonfarms.net/event/apple-harvest-weekends-2024/2024-09-14/
LOCATION:Donaldson Farms\, 358 Allen Road\, Hackettstown\, NJ\, 07840\, United States
CATEGORIES:Fall Activities,Kid-Friendly Activities,Pick Your Own Apples,Special Event
ATTACH;FMTTYPE=image/jpeg:https://donaldsonfarms.net/wp-content/uploads/apple-picking-new-jersey.jpg
GEO:40.8268126;-74.8377554
X-APPLE-STRUCTURED-LOCATION;VALUE=URI;X-ADDRESS=Donaldson Farms 358 Allen Road Hackettstown NJ 07840 United States;X-APPLE-RADIUS=500;X-TITLE=358 Allen Road:geo:-74.8377554,40.8268126
END:VEVENT
BEGIN:VEVENT
DTSTART;TZID=UTC:20240915T110000
DTEND;TZID=UTC:20240915T170000
DTSTAMP:20260420T065554
CREATED:20240828T134137Z
LAST-MODIFIED:20240828T134137Z
UID:11991-1726398000-1726419600@donaldsonfarms.net
SUMMARY:Apple Harvest Weekends
DESCRIPTION:Apple picking\, food\, hayrides (weather permitting)\, vendors\, and more! \n\n\n\nDATES: Saturdays & Sundays Sept 7th – Sept 22nd (11am – 5pm) – Weather permitting COST: No entry fee. PYO activities are priced by the pound. \n\n\n\nMORE INFO:\n\n\n\n\nLearn more about apple picking
URL:https://donaldsonfarms.net/event/apple-harvest-weekends-2024/2024-09-15/
LOCATION:Donaldson Farms\, 358 Allen Road\, Hackettstown\, NJ\, 07840\, United States
CATEGORIES:Fall Activities,Kid-Friendly Activities,Pick Your Own Apples,Special Event
ATTACH;FMTTYPE=image/jpeg:https://donaldsonfarms.net/wp-content/uploads/apple-picking-new-jersey.jpg
GEO:40.8268126;-74.8377554
X-APPLE-STRUCTURED-LOCATION;VALUE=URI;X-ADDRESS=Donaldson Farms 358 Allen Road Hackettstown NJ 07840 United States;X-APPLE-RADIUS=500;X-TITLE=358 Allen Road:geo:-74.8377554,40.8268126
END:VEVENT
BEGIN:VEVENT
DTSTART;TZID=UTC:20240921T110000
DTEND;TZID=UTC:20240921T170000
DTSTAMP:20260420T065554
CREATED:20240828T134137Z
LAST-MODIFIED:20240828T134137Z
UID:11992-1726916400-1726938000@donaldsonfarms.net
SUMMARY:Apple Harvest Weekends
DESCRIPTION:Apple picking\, food\, hayrides (weather permitting)\, vendors\, and more! \n\n\n\nDATES: Saturdays & Sundays Sept 7th – Sept 22nd (11am – 5pm) – Weather permitting COST: No entry fee. PYO activities are priced by the pound. \n\n\n\nMORE INFO:\n\n\n\n\nLearn more about apple picking
URL:https://donaldsonfarms.net/event/apple-harvest-weekends-2024/2024-09-21/
LOCATION:Donaldson Farms\, 358 Allen Road\, Hackettstown\, NJ\, 07840\, United States
CATEGORIES:Fall Activities,Kid-Friendly Activities,Pick Your Own Apples,Special Event
ATTACH;FMTTYPE=image/jpeg:https://donaldsonfarms.net/wp-content/uploads/apple-picking-new-jersey.jpg
GEO:40.8268126;-74.8377554
X-APPLE-STRUCTURED-LOCATION;VALUE=URI;X-ADDRESS=Donaldson Farms 358 Allen Road Hackettstown NJ 07840 United States;X-APPLE-RADIUS=500;X-TITLE=358 Allen Road:geo:-74.8377554,40.8268126
END:VEVENT
BEGIN:VEVENT
DTSTART;TZID=UTC:20240922T110000
DTEND;TZID=UTC:20240922T170000
DTSTAMP:20260420T065554
CREATED:20240828T134137Z
LAST-MODIFIED:20240828T134137Z
UID:11993-1727002800-1727024400@donaldsonfarms.net
SUMMARY:Apple Harvest Weekends
DESCRIPTION:Apple picking\, food\, hayrides (weather permitting)\, vendors\, and more! \n\n\n\nDATES: Saturdays & Sundays Sept 7th – Sept 22nd (11am – 5pm) – Weather permitting COST: No entry fee. PYO activities are priced by the pound. \n\n\n\nMORE INFO:\n\n\n\n\nLearn more about apple picking
URL:https://donaldsonfarms.net/event/apple-harvest-weekends-2024/2024-09-22/
LOCATION:Donaldson Farms\, 358 Allen Road\, Hackettstown\, NJ\, 07840\, United States
CATEGORIES:Fall Activities,Kid-Friendly Activities,Pick Your Own Apples,Special Event
ATTACH;FMTTYPE=image/jpeg:https://donaldsonfarms.net/wp-content/uploads/apple-picking-new-jersey.jpg
GEO:40.8268126;-74.8377554
X-APPLE-STRUCTURED-LOCATION;VALUE=URI;X-ADDRESS=Donaldson Farms 358 Allen Road Hackettstown NJ 07840 United States;X-APPLE-RADIUS=500;X-TITLE=358 Allen Road:geo:-74.8377554,40.8268126
END:VEVENT
BEGIN:VEVENT
DTSTART;TZID=UTC:20240928T110000
DTEND;TZID=UTC:20240928T170000
DTSTAMP:20260420T065554
CREATED:20240827T163209Z
LAST-MODIFIED:20240828T133012Z
UID:11953-1727521200-1727542800@donaldsonfarms.net
SUMMARY:Fall Harvest Weekend
DESCRIPTION:Fall is the perfect time to visit Donaldson Farms to enjoy apple and pumpkin picking and corn maze\, hayrides\, corn cannon\, fresh-cooked food\, apple cider samples\, and more! \nDATES: Saturdays and Sundays 11am – 5pm September 28th – October 31st and Columbus Day (Monday 10/14) – Weather permitting \nCOST: No entry fee. Activities and food priced individually. PYO activities are priced by the pound. \n\n\nReservations are not required.\n\n\n\nNo dogs. Thank you!\n\nHighlights\n\nPick-Your-Own Apples: Enjoy healthy and delicious apples that are locally-grown.  No admission fee is required to access our apple orchard but\, you must check in at our farm market prior to picking. Apples are priced by the pound. We take great pride in our farm – please be respectful while visiting. \nPick-Your-Own Pumpkins: Grab a wheelbarrow and take a scenic walk to our fields to pick your own pumpkin. No admission fee is required to access our pumpkin patch. Pumpkins are priced by the pound. Wheelbarrows are available for walking to the pumpkin patch or take a hayride to pumpkins and apples (fee applies). \nCorn Maze & Attractions: 9-acres of fun that the kids will love! Put on your comfortable walking shoes and venture into our corn maze! It takes an average of 45 minutes to an hour complete. If kids surrender\, just take an ‘easy’ exit! Each year\, our Corn Maze features a different design. \nFood & Drink: James on Main* will serve their award-winning BBQ each day from 11am to 4pm (hours subject to change) and Czig Meister Brewing Company* will sell and sample their local craft beers and hard Czeltzers from 12pm until closing. These award-winning spirits are a neighborhood favorite! \n* Subject to change \nVendors: Each October weekend\, we feature a variety of vendors selling handmade items and goodies. Vendors will vary from week to week. If you have interest in becoming a vendor during our Fall Harvest Weekends\, please click here. \nPlease visit our Facebook page\, or call us 908-852-9122 x1 for current conditions before planning your visit. \nAs a courtesy to our customers\, we kindly ask that you leave your pets at home. \nQuestions? Please email events@donaldsonfarms.net or call 908-852-9122
URL:https://donaldsonfarms.net/event/fall-harvest-weekend-2024/
LOCATION:Donaldson Farms\, 358 Allen Road\, Hackettstown\, NJ\, 07840\, United States
CATEGORIES:Corn Maze,Fall Activities,Food & Drink,FREE Event,Kid-Friendly Activities,Pick Your Own Apples,Pick Your Own Pumpkins
ATTACH;FMTTYPE=image/jpeg:https://donaldsonfarms.net/wp-content/uploads/pyo-pumpkins-corn.jpg
GEO:40.8268126;-74.8377554
X-APPLE-STRUCTURED-LOCATION;VALUE=URI;X-ADDRESS=Donaldson Farms 358 Allen Road Hackettstown NJ 07840 United States;X-APPLE-RADIUS=500;X-TITLE=358 Allen Road:geo:-74.8377554,40.8268126
END:VEVENT
BEGIN:VEVENT
DTSTART;TZID=UTC:20240929T110000
DTEND;TZID=UTC:20240929T170000
DTSTAMP:20260420T065554
CREATED:20240827T163209Z
LAST-MODIFIED:20240827T163209Z
UID:11969-1727607600-1727629200@donaldsonfarms.net
SUMMARY:Fall Harvest Weekend
DESCRIPTION:Fall is the perfect time to visit Donaldson Farms to enjoy apple and pumpkin picking and corn maze\, hayrides\, corn cannon\, fresh-cooked food\, apple cider samples\, and more! \nDATES: Saturdays and Sundays 11am – 5pm September 28th – October 31st and Columbus Day (Monday 10/14) – Weather permitting \nCOST: No entry fee. Activities and food priced individually. PYO activities are priced by the pound. \n\n\nReservations are not required.\n\n\n\nNo dogs. Thank you!\n\nHighlights\n\nPick-Your-Own Apples: Enjoy healthy and delicious apples that are locally-grown.  No admission fee is required to access our apple orchard but\, you must check in at our farm market prior to picking. Apples are priced by the pound. We take great pride in our farm – please be respectful while visiting. \nPick-Your-Own Pumpkins: Grab a wheelbarrow and take a scenic walk to our fields to pick your own pumpkin. No admission fee is required to access our pumpkin patch. Pumpkins are priced by the pound. Wheelbarrows are available for walking to the pumpkin patch or take a hayride to pumpkins and apples (fee applies). \nCorn Maze & Attractions: 9-acres of fun that the kids will love! Put on your comfortable walking shoes and venture into our corn maze! It takes an average of 45 minutes to an hour complete. If kids surrender\, just take an ‘easy’ exit! Each year\, our Corn Maze features a different design. \nFood & Drink: James on Main* will serve their award-winning BBQ each day from 11am to 4pm (hours subject to change) and Czig Meister Brewing Company* will sell and sample their local craft beers and hard Czeltzers from 12pm until closing. These award-winning spirits are a neighborhood favorite! \n* Subject to change \nVendors: Each October weekend\, we feature a variety of vendors selling handmade items and goodies. Vendors will vary from week to week. If you have interest in becoming a vendor during our Fall Harvest Weekends\, please click here. \nPlease visit our Facebook page\, or call us 908-852-9122 x1 for current conditions before planning your visit. \nAs a courtesy to our customers\, we kindly ask that you leave your pets at home. \nQuestions? Please email events@donaldsonfarms.net or call 908-852-9122
URL:https://donaldsonfarms.net/event/fall-harvest-weekend-2024/2024-09-29/
LOCATION:Donaldson Farms\, 358 Allen Road\, Hackettstown\, NJ\, 07840\, United States
CATEGORIES:Corn Maze,Fall Activities,Food & Drink,FREE Event,Kid-Friendly Activities,Pick Your Own Apples,Pick Your Own Pumpkins
ATTACH;FMTTYPE=image/jpeg:https://donaldsonfarms.net/wp-content/uploads/pyo-pumpkins-corn.jpg
GEO:40.8268126;-74.8377554
X-APPLE-STRUCTURED-LOCATION;VALUE=URI;X-ADDRESS=Donaldson Farms 358 Allen Road Hackettstown NJ 07840 United States;X-APPLE-RADIUS=500;X-TITLE=358 Allen Road:geo:-74.8377554,40.8268126
END:VEVENT
END:VCALENDAR