BEGIN:VCALENDAR
VERSION:2.0
PRODID:-//Donaldson Farms - ECPv6.15.14//NONSGML v1.0//EN
CALSCALE:GREGORIAN
METHOD:PUBLISH
X-ORIGINAL-URL:https://donaldsonfarms.net
X-WR-CALDESC:Events for Donaldson Farms
REFRESH-INTERVAL;VALUE=DURATION:PT1H
X-Robots-Tag:noindex
X-PUBLISHED-TTL:PT1H
BEGIN:VTIMEZONE
TZID:UTC
BEGIN:STANDARD
TZOFFSETFROM:+0000
TZOFFSETTO:+0000
TZNAME:UTC
DTSTART:20220101T000000
END:STANDARD
END:VTIMEZONE
BEGIN:VEVENT
DTSTART;TZID=UTC:20230603T110000
DTEND;TZID=UTC:20230603T190000
DTSTAMP:20260421T055103
CREATED:20230412T141206Z
LAST-MODIFIED:20230513T173836Z
UID:10512-1685790000-1685818800@donaldsonfarms.net
SUMMARY:The 5th Annual Arc of Warren County Food Truck Festival
DESCRIPTION:It’s our farm friends’ favorite event of the season spotlighting an important and treasured organization in our community – The Arc of Warren County! They help people with intellectual and other developmental disabilities live a good life. They assist families to solve challenges associated with the lifelong care of their family members. As an advocacy organization\, they create the kind of universal environment where the people we serve are accepted and respected in the community. \nJoin us on the farm for another fabulous event featuring an incredible selection of food trucks\, Czig Meister Brewing Company’s award-winning craft beer and Czeltzers\, live music\, games\, and activities for all ages! \nPresented by Megabite Events and hosted by Donaldson Farms! \nFood Truck Line-up (subject to change)\n\nTaco Daisis\nThe Angry Chouirico BBQ\nMarley’s Wings and Things\nLatin Bites\nEmpanada Guy\nJersey Curbside Eats\nWhy Not Burgerz\nAngry Archies\nKBBQ CUPBOB\nJames on Main\nMoo for You Ice Cream\nTop Tea Plug\nSweet Concessions\nKosher Pig USA – Bacon on a Stick\nJerzey Girl Pickles\n\nLive Music! Naughty Humphrey will kick the fun off at approximately 11:30 am and The Big Fuss rocks on at approximately 3:30 pm! Time and line-up are subject to change. \nPlease bring blankets & chairs\, seating is not provided. No outside food drinks pop-up tents\, or coolers. No dogs. \nThe 5th Annual Arc of Warren County Food Truck Festival sponsors are community-minded\, generous organizations. You can give thanks by dedicating a bit of time to learning about the services and goods they have to offer our neighborhoods\, and beyond. It’s an honor to host the Arc of Warren County and their partners this season! \nBiergarten:  The House of the Good Shepherd\nMusic: John Johnson Automotive Group\nGreeting: Newbaker Funeral Home\nTrail to the Food Trucks: Assured Partners/Walsh Benefits\nFriendship Plus: Connell Foley\, LLP\nFriendship:\nJames on Main\nDavid Santini\, CPA\nMaguire-Scala Memorial Home\nCommunity Blend \nAdvance Tickets: $7/person (Ages 7 and up)\nSame-Day Tickets: $8/person (Ages 7 and up)\nFree for children under 7 years old\nGET TICKETS
URL:https://donaldsonfarms.net/event/5th-annual-arc-of-warren-county-food-and-music-festival/
LOCATION:Donaldson Farms\, 358 Allen Road\, Hackettstown\, NJ\, 07840\, United States
CATEGORIES:Food & Drink,Kid-Friendly Activities,Music,Special Event
ATTACH;FMTTYPE=image/jpeg:https://donaldsonfarms.net/wp-content/uploads/feature-food-truck-festival.jpg
GEO:40.8268126;-74.8377554
X-APPLE-STRUCTURED-LOCATION;VALUE=URI;X-ADDRESS=Donaldson Farms 358 Allen Road Hackettstown NJ 07840 United States;X-APPLE-RADIUS=500;X-TITLE=358 Allen Road:geo:-74.8377554,40.8268126
END:VEVENT
END:VCALENDAR