BEGIN:VCALENDAR
VERSION:2.0
PRODID:-//Donaldson Farms - ECPv6.15.14//NONSGML v1.0//EN
CALSCALE:GREGORIAN
METHOD:PUBLISH
X-ORIGINAL-URL:https://donaldsonfarms.net
X-WR-CALDESC:Events for Donaldson Farms
REFRESH-INTERVAL;VALUE=DURATION:PT1H
X-Robots-Tag:noindex
X-PUBLISHED-TTL:PT1H
BEGIN:VTIMEZONE
TZID:UTC
BEGIN:STANDARD
TZOFFSETFROM:+0000
TZOFFSETTO:+0000
TZNAME:UTC
DTSTART:20230101T000000
END:STANDARD
END:VTIMEZONE
BEGIN:VEVENT
DTSTART;TZID=UTC:20240601T120000
DTEND;TZID=UTC:20240601T190000
DTSTAMP:20260420T124317
CREATED:20240124T021609Z
LAST-MODIFIED:20240523T184507Z
UID:11427-1717243200-1717268400@donaldsonfarms.net
SUMMARY:The 6th Annual Arc of Warren County Food Truck Festival
DESCRIPTION:It’s our farm friends’ favorite event of the season spotlighting an important and treasured organization in our community – The Arc of Warren County! Celebrate the start of summertime with us at the 6th Annual Food Truck Fest proudly spotlighting their important work in our community! It’s a day filled with fantastic food and fresh-air fun for the whole family! Save the date to experience: \n\n13 – 15 amazing Food Trucks!\nLive music by The Big Fuss and Brian Dean Moore Band!\nAward-winning craft beers & Czeltzers by Czig Meister Brewery Company!\nGames and activities for all\, a Balloon Artist\, Pony Visits\, Hatchet Tossing\, & more!\n\nThe Arc of Warren County helps people with intellectual and other developmental disabilities live a good life. They assist families in solving challenges associated with the lifelong care of their family members. As an advocacy organization\, they create the kind of universal environment where the people we serve are accepted and respected in the community. \nSave the date and bring your appetite for local food and fun on the farm. Presented by Megabite Events and hosted by Donaldson Farms\, The 6th Annual Arc of Warren County Food Truck Festival is set for June 1st! \nWe express our gratitude to the following sponsors for supporting the Arc of Warren County: \nMusic Sponsor John Johnson Auto Group\, Budd Lake\, NJ\nGreeting Sponsor Newbaker Funeral Home\, Blairstown\, NJ\nHayride Sponsor Enterprise Fleet Management\, New York/New Jersey\nCooling Tent Sponsor Anonymous Donor\nFriendship Plus Sponsor Connell Foley\, NJ \nFriendship Sponsors\nJames On Main\, Hackettstown\, NJ\nAbilities of Northwest New Jersey\, Washington\, NJ\nThe Smashed Olive\, Washington\, NJ\nMaguire Scala Memorial Home\, Hackettstown\, NJ\nFulton Bank\, Hackettstown\, NJ\nViking Pest Control\, NJ\nAsbury Farms Real Estate\, NJ\nUnity Bank\, NJ\nWarren Community College\, Washington\, NJ \nIt’s another amazing fleet of food trucks on the farm! \n\nTaco Daisis\nSnowchi Peruvian Cuisine\nSeasonal Sarah\nThe Angry Chourico BBQ\nMoo for You\nWhy Not Burgerz\nAngry Archies\nEmpanada Guy\nBtch’N Bacon\nJoanie’s Diner\nIl Forno A Legna Pizza\nCapizzi Zeppole\nJerzey Girl Pickles\nCat Like Reflexes\n\nPlease bring blankets & chairs\, seating is not provided. No outside food\, drinks\, pop-up tents\, or coolers allowed. No dogs other than certified service dogs are permitted. \nFAST PASS* Tickets: $6/person (Ages 6 and up)\nSame-Day Tickets: $8/person (Ages 6 and up)\nFree for children under 5 years old\nGET TICKETS \n* Avoid the long lines! Purchase your FAST PASS tickets in advance for $6 per person\n\nIMPORTANT NOTICE: Be cautious of scams! Do not reply to any posts or private messages offering tickets or vendor space for sale privately. Only tickets purchased through Mega Bite Events will be honored.
URL:https://donaldsonfarms.net/event/arc-food-truck-festival-2024/
LOCATION:Donaldson Farms\, 358 Allen Road\, Hackettstown\, NJ\, 07840\, United States
CATEGORIES:Food & Drink,Kid-Friendly Activities,Music,Special Event
ATTACH;FMTTYPE=image/jpeg:https://donaldsonfarms.net/wp-content/uploads/event-arc-food-truck-festival-2024.jpg
GEO:40.8268126;-74.8377554
X-APPLE-STRUCTURED-LOCATION;VALUE=URI;X-ADDRESS=Donaldson Farms 358 Allen Road Hackettstown NJ 07840 United States;X-APPLE-RADIUS=500;X-TITLE=358 Allen Road:geo:-74.8377554,40.8268126
END:VEVENT
END:VCALENDAR