BEGIN:VCALENDAR
VERSION:2.0
PRODID:-//Donaldson Farms - ECPv6.15.14//NONSGML v1.0//EN
CALSCALE:GREGORIAN
METHOD:PUBLISH
X-WR-CALNAME:Donaldson Farms
X-ORIGINAL-URL:https://donaldsonfarms.net
X-WR-CALDESC:Events for Donaldson Farms
REFRESH-INTERVAL;VALUE=DURATION:PT1H
X-Robots-Tag:noindex
X-PUBLISHED-TTL:PT1H
BEGIN:VTIMEZONE
TZID:UTC
BEGIN:STANDARD
TZOFFSETFROM:+0000
TZOFFSETTO:+0000
TZNAME:UTC
DTSTART:20240101T000000
END:STANDARD
END:VTIMEZONE
BEGIN:VEVENT
DTSTART;TZID=UTC:20250617T093000
DTEND;TZID=UTC:20250617T110000
DTSTAMP:20260419T192503
CREATED:20250113T195317Z
LAST-MODIFIED:20250409T171429Z
UID:12231-1750152600-1750158000@donaldsonfarms.net
SUMMARY:Little Learning Farmers
DESCRIPTION:Little Learning Farmers returns to Donaldson Farms beginning in June 2025! Pre-registration will be required – no walk-ins\, please. To be notified of other fun and exciting farm events please subscribe to our e-newsletter.  \nLittle Learning Farmers is a child-and-adult activity session and is perfect for parents\, grandparents\, aunts\, and uncles\, and their Little Farmer(s) to enjoy a fun and educational morning on the farm! \nThis program content is ideal for pre-school and kindergarten age children\, however\, siblings and children of any age may participate.  \n\nAll sessions will include a themed activity\, storytime\, and a light snack for each registered child. Snack items will be individually wrapped (ex. juice box and snack pack pretzels).\nMost sessions include a hands-on craft or take-home craft project.\nAll sessions will be held outdoors.\nChildren must have adult supervision at all times. Thank you for understanding that this is not a ‘drop-off event.’ \nPlease dress for the weather. Sunblock\, closed-toed shoes that can get dirty\, and a sunhat are always a good idea.\nEvents are rain or shine. Sometimes Mother Nature does not cooperate with our plans. In the event of rain or thunderstorms\, Donaldson Farms may cancel or reschedule the event. Your registration fee will be refunded if rescheduling is not an option.\nRegistration and payment are required prior to the event. No walk-ins\, please!\nPricing is $20 for the first participating child\, $15 for the second and $10 for each additional child. *Discounted price will be reflected once you click ‘checkout’ on the ticket site.*\nAdults and non-participating children are free.\nRegistration link is provided at the bottom of this page\n\n2025 Program Schedule\nLittle Learning Farmers is held on Tuesdays from 9:30 – 11:00 am unless otherwise noted. \n\nJune 17 – Strawberry Picking or Planting\nJune 24 – Strawberry Picking or Planting\nJuly 1 – NO LITTLE LEARNING FARMERS (4th of July week)\nJuly 8 – TBA\nJuly 15 – Tractors & Farm Equipment\nJuly 22 – TBA\nJuly 29 – TBA\nAugust 5 – NO LITTLE LEARNING FARMERS (Farm Camp week)\nAugust 12 – TBA\nAugust 19 – Water Fun!\n\nQuestions: Contact our event coordinator call 908-852-9122 x2 or via email  \nRegistration\nRegistration for Little Learning Farmers is required. Spots are limited and are available on a first-come\, first-serve basis. Your registration must be paid in advance of the event. \nCLICK HERE TO REGISTER
URL:https://donaldsonfarms.net/event/little-learning-farmers-2025/
LOCATION:Donaldson Farms\, 358 Allen Road\, Hackettstown\, NJ\, 07840\, United States
CATEGORIES:Kid-Friendly Activities,Special Event
ATTACH;FMTTYPE=image/jpeg:https://donaldsonfarms.net/wp-content/uploads/donaldson-farms-little-learning-farmers.jpg
GEO:40.8268126;-74.8377554
X-APPLE-STRUCTURED-LOCATION;VALUE=URI;X-ADDRESS=Donaldson Farms 358 Allen Road Hackettstown NJ 07840 United States;X-APPLE-RADIUS=500;X-TITLE=358 Allen Road:geo:-74.8377554,40.8268126
END:VEVENT
END:VCALENDAR