BEGIN:VCALENDAR
VERSION:2.0
PRODID:-//Donaldson Farms - ECPv6.15.14//NONSGML v1.0//EN
CALSCALE:GREGORIAN
METHOD:PUBLISH
X-ORIGINAL-URL:https://donaldsonfarms.net
X-WR-CALDESC:Events for Donaldson Farms
REFRESH-INTERVAL;VALUE=DURATION:PT1H
X-Robots-Tag:noindex
X-PUBLISHED-TTL:PT1H
BEGIN:VTIMEZONE
TZID:UTC
BEGIN:STANDARD
TZOFFSETFROM:+0000
TZOFFSETTO:+0000
TZNAME:UTC
DTSTART:20240101T000000
END:STANDARD
END:VTIMEZONE
BEGIN:VEVENT
DTSTART;TZID=UTC:20250803T120000
DTEND;TZID=UTC:20250803T190000
DTSTAMP:20260419T163511
CREATED:20250529T181629Z
LAST-MODIFIED:20250802T165807Z
UID:12568-1754222400-1754247600@donaldsonfarms.net
SUMMARY:7th Annual Arc of Warren County Food Truck Festival
DESCRIPTION:The 7th Annual Arc of Warren County Food Truck Festival is set for August 3rd\, 2025 (rescheduled from May 31st due to weather)! \nIt’s our farm friends’ favorite event of the season – spotlighting an important and treasured organization in our community – The Arc of Warren County! Celebrate the start of summertime with us at the 7th Annual Food Truck Festival. It’s a day filled with fantastic food and fresh-air fun for the whole family! Save the date to experience: \n\nFabulous Food Trucks!\nLive music by The Big Fuss and the Brian Dean Moore Band!\nAward-winning craft beers & Czeltzers by Czig Meister Brewery Company!\nGames and activities!\n\nThe Arc of Warren County helps people with intellectual and other developmental disabilities live a good life. They assist families in solving challenges associated with the lifelong care of their family members. As an advocacy organization\, they create the kind of universal environment where the people we serve are accepted and respected in the community. \nThank you to the Arc of Warren County Sponsorship Partners! \n\nTrail to the Food Trucks! Newbaker Funeral Home\nMusic! John Johnson Auto Group\nCooling Tent! Anonymous Donor\nFriendship Plus! Connell Foley\, LLP \, NJM Insurance\, Asbury Farm Real Estate\, and Campbell Petrie\nFriendship! James on Main\, Sanico\, Abilities of Northwest Jersey\, Inc.\, & Maguire Memorial Home\, Warren County Community College\, Alte Roofing\, The Smashed Olive\, Next Chapter Book Mobile\, Viking Pest Control\, Valley Plumbing\, Heating\, Cooling and Lawn Sprinklers\, LLC.\, and David Santini\, LLC.\n\nVendors and activities are subject to change. \nFood Vendors \n\nTommy Scoops\nAngry Archies\nIL Forno A Legna\nDonut NV\nChocolate Delights\nTaco Daisis\nBtch*n Bacon on a Stick & More\nKona Ice of Bridgewater\nTlaxcalita\nCat like Reflexes\nMarley’s Wings & Things\nLaughing Goat Coffee Trailer\nPines Acres Lemonade\nSukis Sodas\nGuatelicious Latin Street Food\nGustosa Desserts\nCruz-missile Hotdogs & Pinchos\nWith Love Food Truck\n\nOther Vendors \n\nProud American Wooden Flags\nLu Linxx permanent jewelry\nCreative Curiosity Face Painting\nAdult & Teen Challenge\nAll Care Insurance\nStyx by the Lake\, Inc.\nC&C Creations\nCreative Curiosity\nPower Home Remodeling\nJerzey Girl Pickles\nGroomington Eats\nKids Play Race Cars\nAll American Gutter\nChainsaw Wood Carvings by Dylan Haggart\nMystic Candlez\nBWG Jewelry\n\nSave the date and bring your appetite for local food and fun on the farm. Presented by Megabite Events and hosted by Donaldson Farms\, the 7th Annual Arc of Warren County Food Truck Festival is set for August 3rd (rescheduled from May 31st due to weather)!   \nTICKETS\n\n$8 per person\nKids 10 and under: FREE!\nFAST PASS Tickets: $6 in advance—skip the long lines!\n\nCLICK HERE FOR TICKETS \nPlease bring blankets & chairs\, seating is not provided. No outside food\, drinks\, pop-up tents\, or coolers allowed. No dogs other than certified service dogs are permitted.
URL:https://donaldsonfarms.net/event/7th-annual-arc-of-warren-county-food-truck-festival-august-2025/
LOCATION:Donaldson Farms\, 358 Allen Road\, Hackettstown\, NJ\, 07840\, United States
CATEGORIES:Food & Drink,Kid-Friendly Activities,Music,Special Event
ATTACH;FMTTYPE=image/jpeg:https://donaldsonfarms.net/wp-content/uploads/event-arc-food-truck-festival-2025-rescheduled.jpg
GEO:40.8268126;-74.8377554
X-APPLE-STRUCTURED-LOCATION;VALUE=URI;X-ADDRESS=Donaldson Farms 358 Allen Road Hackettstown NJ 07840 United States;X-APPLE-RADIUS=500;X-TITLE=358 Allen Road:geo:-74.8377554,40.8268126
END:VEVENT
END:VCALENDAR