BEGIN:VCALENDAR
VERSION:2.0
PRODID:-//Donaldson Farms - ECPv6.15.14//NONSGML v1.0//EN
CALSCALE:GREGORIAN
METHOD:PUBLISH
X-ORIGINAL-URL:https://donaldsonfarms.net
X-WR-CALDESC:Events for Donaldson Farms
REFRESH-INTERVAL;VALUE=DURATION:PT1H
X-Robots-Tag:noindex
X-PUBLISHED-TTL:PT1H
BEGIN:VTIMEZONE
TZID:UTC
BEGIN:STANDARD
TZOFFSETFROM:+0000
TZOFFSETTO:+0000
TZNAME:UTC
DTSTART:20240101T000000
END:STANDARD
END:VTIMEZONE
BEGIN:VEVENT
DTSTART;TZID=UTC:20250804T090000
DTEND;TZID=UTC:20250807T130000
DTSTAMP:20260419T163505
CREATED:20250115T181336Z
LAST-MODIFIED:20250115T181527Z
UID:12260-1754298000-1754571600@donaldsonfarms.net
SUMMARY:Farm Camp
DESCRIPTION:Donaldson Farms is offering our fun\, educational\, and engaging 4-day Farm Camp for kids 5-8 years old this summer! \n2025 Farm Camp Dates\nMonday\, August 4th through Thursday\, August 7th (9:00 am – 1:00 pm) \nFarm Camp Details\nThis our 4-day summer day camp offers an opportunity for your child to experience farming behind the scenes. Our interactive and educational program employs hands-on experiential learning practices and activities\, focusing on agriculture’s connections to science\, technology\, farm animals\, recipes\, art\, and most importantly\, fun! Your camper will enjoy a hayride tour of our farm\, observe daily farm operations\, pick and sample fresh fruits and vegetables\, learn about honey and bee pollination\, care for equines\, take a pony ride\, try new recipes\, engage with special educational guests\, create keepsake arts and crafts projects\, and delight in a splash on special water day! \nLEARN MORE
URL:https://donaldsonfarms.net/event/farm-camp-2025/
LOCATION:Donaldson Farms\, 358 Allen Road\, Hackettstown\, NJ\, 07840\, United States
CATEGORIES:Kid-Friendly Activities,Special Event
ATTACH;FMTTYPE=image/jpeg:https://donaldsonfarms.net/wp-content/uploads/donaldson-farms-kids-farm-camp.jpg
GEO:40.8268126;-74.8377554
X-APPLE-STRUCTURED-LOCATION;VALUE=URI;X-ADDRESS=Donaldson Farms 358 Allen Road Hackettstown NJ 07840 United States;X-APPLE-RADIUS=500;X-TITLE=358 Allen Road:geo:-74.8377554,40.8268126
END:VEVENT
END:VCALENDAR