BEGIN:VCALENDAR
VERSION:2.0
PRODID:-//Donaldson Farms - ECPv6.15.14//NONSGML v1.0//EN
CALSCALE:GREGORIAN
METHOD:PUBLISH
X-ORIGINAL-URL:https://donaldsonfarms.net
X-WR-CALDESC:Events for Donaldson Farms
REFRESH-INTERVAL;VALUE=DURATION:PT1H
X-Robots-Tag:noindex
X-PUBLISHED-TTL:PT1H
BEGIN:VTIMEZONE
TZID:UTC
BEGIN:STANDARD
TZOFFSETFROM:+0000
TZOFFSETTO:+0000
TZNAME:UTC
DTSTART:20240101T000000
END:STANDARD
END:VTIMEZONE
BEGIN:VEVENT
DTSTART;TZID=UTC:20250913T110000
DTEND;TZID=UTC:20250913T170000
DTSTAMP:20260419T234640
CREATED:20250115T182437Z
LAST-MODIFIED:20250918T193149Z
UID:12266-1757761200-1757782800@donaldsonfarms.net
SUMMARY:Apple Harvest Weekends
DESCRIPTION:Join us for fall fun during the apple harvest\, featuring activities – apple picking\, select food trucks kettle corn\, special guests\, and more! \nTreat yourself to the finest local drink & ice cream! Sample and purchase craft beer\, and Czeltzers\, at the Czig Meister Brewing Co. Can Shack\, and indulge in Coldstone on Wheels Ice Cream! Both are open noon until closing on Saturdays and Sundays throughout the fall season! \nDATES: Saturdays & Sundays\, Sept 6th – Sept 21st (11 am – 5 pm) – Weather permitting\nFARM MARKET HOURS: Monday through Saturday\, 9 am – 6 pm\, and Sunday\, 9 am – 5 pm.\nCOST: No entry fee. PYO activities are priced by the pound. \nSave the dates! Special Guests… \nSaturday\, Sept. 20th: 12 pm – 3 pm The Dirty Rotten Scoundrels! Bluegrass and country band!   Marley’s Wings & Things Food Truck\, & Lavish Everlasting Permanent Jewelry!\nSunday\, Sept. 21st: 2 pm – 4 pm Women’s Set Defense Class presented by One Heart Way Karate Academy. Click here to register! \nCheck our Fall Harvest Weekends page for more info
URL:https://donaldsonfarms.net/event/apple-harvest-weekends-2025/2025-09-13/
LOCATION:Donaldson Farms\, 358 Allen Road\, Hackettstown\, NJ\, 07840\, United States
CATEGORIES:Fall Activities,Food & Drink,FREE Event,Kid-Friendly Activities,Pick Your Own Apples
ATTACH;FMTTYPE=image/jpeg:https://donaldsonfarms.net/wp-content/uploads/apple-picking-new-jersey.jpg
GEO:40.8268126;-74.8377554
X-APPLE-STRUCTURED-LOCATION;VALUE=URI;X-ADDRESS=Donaldson Farms 358 Allen Road Hackettstown NJ 07840 United States;X-APPLE-RADIUS=500;X-TITLE=358 Allen Road:geo:-74.8377554,40.8268126
END:VEVENT
BEGIN:VEVENT
DTSTART;TZID=UTC:20250913T120000
DTEND;TZID=UTC:20250913T180000
DTSTAMP:20260419T234640
CREATED:20250113T213735Z
LAST-MODIFIED:20260202T172419Z
UID:12253-1757764800-1757786400@donaldsonfarms.net
SUMMARY:Sweet Corn & Garlic Festival
DESCRIPTION:EVENT DATE: Saturday\, Sept. 13th (12 pm – 6 pm) \nWHERE CORN SNOBS AND GARLIC LOVERS GATHER! \nLive Music by The Big Fuss\, Brian Dean Moore Band\, & Country Line Dancing fun! \nCelebrate the season’s best at our Sweet Corn & Garlic Fest! This family-friendly event is packed with fun activities\, delicious food\, and live entertainment for everyone to enjoy. \nSavor the flavors of our farm-fresh sweet corn and garlic. Enjoy roasted corn on the cob\, garlic-infused dishes\, culinary delights\, and demos from local chefs\, and Czig Meister Brewing Company‘s local craft beer and Czeltzers! \nGrab your friends\, partner\, and your boots for Country Line Dancing\, where the dance floor heats up faster than a New Jersey summer – whether you’re a seasoned pro or a beginner just ropin’ in\, we’ve got the moves to get you steppin’! \nBrowse and shop from a selection of local artisans\, crafters\, and food vendors offering unique products and tasty treats. Kids will experience fresh-air fun activities\, including face painting\, pony visits\, hayrides\, and more! \nAdmission tickets are required for guests to attend. Take a look at important event details and the exciting line-up by clicking the ticket link at the bottom of this page! \nIMPORTANT EVENT DETAILS\n\nEvent Date: Saturday\, September 13th\, 2025\nEvent Time: 12:00 pm – 6:00 pm\nLive Music by The Big Fuss!\nLine Dancing with Sandi of Willow Creek Events!\nHayrides: 12:00 pm – 6:00 pm\nPony Visits: 12:00 pm – 4:00 pm Subject to change\nAdmission $10/pp Fast Pass Tickets online or $12/pp Day of the Event (plus tax)\nKids 10 and under are FREE.\nTaxes and fees are calculated at online purchase checkout.\nTickets are required to enter the event\, whether you plan to purchase food or not.\nPurchase tickets online or at the farm market on the day of the event only\, while supplies last.\nPurchasing tickets online does not guarantee entry. Unscanned tickets will be refunded upon request if parking is full.\nThere is NO ATM on site. Most vendors take cards\, but cash is recommended.\nTicket includes admission to the festival\, access to Country Line Dancing fun\, & live music!\nFood\, drink\, and other activities are priced separately and are not included in the admission ticket.\nActivities\, vendors\, and information are subject to change.\n\nFOOD TRUCKS:\n\nLatin Bites\nCarinderia On Wheels\nWhy Not Burgerz\nPudgy’s Famous Fries\nTia B’s Street Taco\nMarley’s Cravin’ Cuban\nThe Empanada Truck\nThe Greek Kitchen\nJersey Waffle Cabin\nKielbasa N More\nAngry Archies\nConey Island Pizza\nOccasio & Co. Roasters\n\nFOOD VENDORS: \n\nDonaldson Farms Roasted Sweet Corn\nJames Off Main\nKettle Corn\nChocolate Delights\nFromage Specialty Cheeses\nJerzey Girl Pickles\nDas’ Creamery\nJersey Organics Hot Sauces\nRescue Rations Gourmet Brisket Jerky\nRolling Hills Garlic Vinegar\n\nBEER & CZELTZERS\n\nCzig Meister Brewing Company\n\nSPECIAL GUESTS\n\nSpecial Olympics NJ Hunterdon/Warren Counties\nFabulyss Faces Face painting\nArt-stitution\nWistfully Rooted\nCrunch Fitness Hackettstown\nGreen Goddess Apothecary\nLavish Everlasting Permanent Jewelry \nSinged Scenery\nChainsaw Wood Carvings\nRandolph High School Culinary Arts Programs\n\nGet Tickets
URL:https://donaldsonfarms.net/event/sweet-corn-garlic-festival-2025/
LOCATION:Donaldson Farms\, 358 Allen Road\, Hackettstown\, NJ\, 07840\, United States
CATEGORIES:Fall Activities,Food & Drink,Kid-Friendly Activities,Music,Special Event
ATTACH;FMTTYPE=image/png:https://donaldsonfarms.net/wp-content/uploads/sweet-corn-garlic-fest.png
GEO:40.8268126;-74.8377554
X-APPLE-STRUCTURED-LOCATION;VALUE=URI;X-ADDRESS=Donaldson Farms 358 Allen Road Hackettstown NJ 07840 United States;X-APPLE-RADIUS=500;X-TITLE=358 Allen Road:geo:-74.8377554,40.8268126
END:VEVENT
BEGIN:VEVENT
DTSTART;TZID=UTC:20250914T110000
DTEND;TZID=UTC:20250914T170000
DTSTAMP:20260419T234640
CREATED:20250115T182437Z
LAST-MODIFIED:20250918T193149Z
UID:12267-1757847600-1757869200@donaldsonfarms.net
SUMMARY:Apple Harvest Weekends
DESCRIPTION:Join us for fall fun during the apple harvest\, featuring activities – apple picking\, select food trucks kettle corn\, special guests\, and more! \nTreat yourself to the finest local drink & ice cream! Sample and purchase craft beer\, and Czeltzers\, at the Czig Meister Brewing Co. Can Shack\, and indulge in Coldstone on Wheels Ice Cream! Both are open noon until closing on Saturdays and Sundays throughout the fall season! \nDATES: Saturdays & Sundays\, Sept 6th – Sept 21st (11 am – 5 pm) – Weather permitting\nFARM MARKET HOURS: Monday through Saturday\, 9 am – 6 pm\, and Sunday\, 9 am – 5 pm.\nCOST: No entry fee. PYO activities are priced by the pound. \nSave the dates! Special Guests… \nSaturday\, Sept. 20th: 12 pm – 3 pm The Dirty Rotten Scoundrels! Bluegrass and country band!   Marley’s Wings & Things Food Truck\, & Lavish Everlasting Permanent Jewelry!\nSunday\, Sept. 21st: 2 pm – 4 pm Women’s Set Defense Class presented by One Heart Way Karate Academy. Click here to register! \nCheck our Fall Harvest Weekends page for more info
URL:https://donaldsonfarms.net/event/apple-harvest-weekends-2025/2025-09-14/
LOCATION:Donaldson Farms\, 358 Allen Road\, Hackettstown\, NJ\, 07840\, United States
CATEGORIES:Fall Activities,Food & Drink,FREE Event,Kid-Friendly Activities,Pick Your Own Apples
ATTACH;FMTTYPE=image/jpeg:https://donaldsonfarms.net/wp-content/uploads/apple-picking-new-jersey.jpg
GEO:40.8268126;-74.8377554
X-APPLE-STRUCTURED-LOCATION;VALUE=URI;X-ADDRESS=Donaldson Farms 358 Allen Road Hackettstown NJ 07840 United States;X-APPLE-RADIUS=500;X-TITLE=358 Allen Road:geo:-74.8377554,40.8268126
END:VEVENT
BEGIN:VEVENT
DTSTART;TZID=UTC:20250920T110000
DTEND;TZID=UTC:20250920T170000
DTSTAMP:20260419T234640
CREATED:20250115T182437Z
LAST-MODIFIED:20250918T193150Z
UID:12268-1758366000-1758387600@donaldsonfarms.net
SUMMARY:Apple Harvest Weekends
DESCRIPTION:Join us for fall fun during the apple harvest\, featuring activities – apple picking\, select food trucks kettle corn\, special guests\, and more! \nTreat yourself to the finest local drink & ice cream! Sample and purchase craft beer\, and Czeltzers\, at the Czig Meister Brewing Co. Can Shack\, and indulge in Coldstone on Wheels Ice Cream! Both are open noon until closing on Saturdays and Sundays throughout the fall season! \nDATES: Saturdays & Sundays\, Sept 6th – Sept 21st (11 am – 5 pm) – Weather permitting\nFARM MARKET HOURS: Monday through Saturday\, 9 am – 6 pm\, and Sunday\, 9 am – 5 pm.\nCOST: No entry fee. PYO activities are priced by the pound. \nSave the dates! Special Guests… \nSaturday\, Sept. 20th: 12 pm – 3 pm The Dirty Rotten Scoundrels! Bluegrass and country band!   Marley’s Wings & Things Food Truck\, & Lavish Everlasting Permanent Jewelry!\nSunday\, Sept. 21st: 2 pm – 4 pm Women’s Set Defense Class presented by One Heart Way Karate Academy. Click here to register! \nCheck our Fall Harvest Weekends page for more info
URL:https://donaldsonfarms.net/event/apple-harvest-weekends-2025/2025-09-20/
LOCATION:Donaldson Farms\, 358 Allen Road\, Hackettstown\, NJ\, 07840\, United States
CATEGORIES:Fall Activities,Food & Drink,FREE Event,Kid-Friendly Activities,Pick Your Own Apples
ATTACH;FMTTYPE=image/jpeg:https://donaldsonfarms.net/wp-content/uploads/apple-picking-new-jersey.jpg
GEO:40.8268126;-74.8377554
X-APPLE-STRUCTURED-LOCATION;VALUE=URI;X-ADDRESS=Donaldson Farms 358 Allen Road Hackettstown NJ 07840 United States;X-APPLE-RADIUS=500;X-TITLE=358 Allen Road:geo:-74.8377554,40.8268126
END:VEVENT
BEGIN:VEVENT
DTSTART;TZID=UTC:20250921T110000
DTEND;TZID=UTC:20250921T170000
DTSTAMP:20260419T234640
CREATED:20250115T182437Z
LAST-MODIFIED:20250918T193150Z
UID:12269-1758452400-1758474000@donaldsonfarms.net
SUMMARY:Apple Harvest Weekends
DESCRIPTION:Join us for fall fun during the apple harvest\, featuring activities – apple picking\, select food trucks kettle corn\, special guests\, and more! \nTreat yourself to the finest local drink & ice cream! Sample and purchase craft beer\, and Czeltzers\, at the Czig Meister Brewing Co. Can Shack\, and indulge in Coldstone on Wheels Ice Cream! Both are open noon until closing on Saturdays and Sundays throughout the fall season! \nDATES: Saturdays & Sundays\, Sept 6th – Sept 21st (11 am – 5 pm) – Weather permitting\nFARM MARKET HOURS: Monday through Saturday\, 9 am – 6 pm\, and Sunday\, 9 am – 5 pm.\nCOST: No entry fee. PYO activities are priced by the pound. \nSave the dates! Special Guests… \nSaturday\, Sept. 20th: 12 pm – 3 pm The Dirty Rotten Scoundrels! Bluegrass and country band!   Marley’s Wings & Things Food Truck\, & Lavish Everlasting Permanent Jewelry!\nSunday\, Sept. 21st: 2 pm – 4 pm Women’s Set Defense Class presented by One Heart Way Karate Academy. Click here to register! \nCheck our Fall Harvest Weekends page for more info
URL:https://donaldsonfarms.net/event/apple-harvest-weekends-2025/2025-09-21/
LOCATION:Donaldson Farms\, 358 Allen Road\, Hackettstown\, NJ\, 07840\, United States
CATEGORIES:Fall Activities,Food & Drink,FREE Event,Kid-Friendly Activities,Pick Your Own Apples
ATTACH;FMTTYPE=image/jpeg:https://donaldsonfarms.net/wp-content/uploads/apple-picking-new-jersey.jpg
GEO:40.8268126;-74.8377554
X-APPLE-STRUCTURED-LOCATION;VALUE=URI;X-ADDRESS=Donaldson Farms 358 Allen Road Hackettstown NJ 07840 United States;X-APPLE-RADIUS=500;X-TITLE=358 Allen Road:geo:-74.8377554,40.8268126
END:VEVENT
BEGIN:VEVENT
DTSTART;TZID=UTC:20250923T090000
DTEND;TZID=UTC:20250923T170000
DTSTAMP:20260419T234640
CREATED:20250916T192552Z
LAST-MODIFIED:20250916T192552Z
UID:12892-1758618000-1758646800@donaldsonfarms.net
SUMMARY:Apple Picking & Hayrides
DESCRIPTION:Enjoy a beautiful day at the farm with apple picking and hayrides out to the orchards! \nLearn more about apple picking
URL:https://donaldsonfarms.net/event/apple-picking-hayrides/
LOCATION:Donaldson Farms\, 358 Allen Road\, Hackettstown\, NJ\, 07840\, United States
CATEGORIES:Fall Activities,Kid-Friendly Activities,Pick Your Own Apples,Special Event
ATTACH;FMTTYPE=image/jpeg:https://donaldsonfarms.net/wp-content/uploads/apple-picking-new-jersey.jpg
GEO:40.8268126;-74.8377554
X-APPLE-STRUCTURED-LOCATION;VALUE=URI;X-ADDRESS=Donaldson Farms 358 Allen Road Hackettstown NJ 07840 United States;X-APPLE-RADIUS=500;X-TITLE=358 Allen Road:geo:-74.8377554,40.8268126
END:VEVENT
BEGIN:VEVENT
DTSTART;TZID=UTC:20260606T120000
DTEND;TZID=UTC:20260606T190000
DTSTAMP:20260419T234640
CREATED:20260116T184551Z
LAST-MODIFIED:20260415T185505Z
UID:13533-1780747200-1780772400@donaldsonfarms.net
SUMMARY:8th Annual Arc of Warren County Food Truck Festival
DESCRIPTION:It’s our farm friends’ favorite event of the season – spotlighting an important and treasured organization in our community – The Arc of Warren County! Celebrate the start of summertime with us at the 8th Annual Arc of Warren County Food Truck Festival\, presented by Megabite Events and hosted by Donaldson Farms. It’s a day filled with fantastic food and fresh-air fun for the whole family! Save the date to experience: \n\nFabulous Food Trucks!\nLive music by The Big Fuss and Whiskey & Roses!\nAward-winning craft beers & Czeltzers by Czig Meister Brewery Company!\nGames and activities!\n\nThe Arc of Warren County helps people with intellectual and other developmental disabilities live a good life. They assist families in solving challenges associated with the lifelong care of their family members. As an advocacy organization\, they create the kind of universal environment where the people we serve are accepted and respected in the community. \nThank you to the following community partners for supporting this event! This incredible tradition wouldn’t be possible without their sponsorship. \nSponsor updates will be posted soon. \nCheck out the fabulous lineup of food trucks\, tent vendors\, and more! All info subject to change. \n\nThe Black Forest Inn\nGustosa Desserts\nThe Greek Kitchen\nThe BBQ Pit\nIl Fomo A Legna Pizza\nThe Angry Chourico\nAngry Archies Lobster\nTainos Kitchen\nBtch’n Bacon on a Stick & More\nDellina Concessions Zepoles\nColdstone on Wheels\nSuperb Nosh Puerto Rican Desserts\nThe Wandering Cup\nJerzey Girl Pickles\nTotally Nutz\nChocolate Delights\n\nPlease check back later for more details. \nClick Here for Tickets!
URL:https://donaldsonfarms.net/event/8th-annual-arc-of-warren-county-food-truck-festival/
LOCATION:Donaldson Farms\, 358 Allen Road\, Hackettstown\, NJ\, 07840\, United States
CATEGORIES:Kid-Friendly Activities,Music,Special Event
ATTACH;FMTTYPE=image/jpeg:https://donaldsonfarms.net/wp-content/uploads/event-arc-food-truck-festival-2026-lg.jpg
GEO:40.8268126;-74.8377554
X-APPLE-STRUCTURED-LOCATION;VALUE=URI;X-ADDRESS=Donaldson Farms 358 Allen Road Hackettstown NJ 07840 United States;X-APPLE-RADIUS=500;X-TITLE=358 Allen Road:geo:-74.8377554,40.8268126
END:VEVENT
END:VCALENDAR